BEGIN:VCALENDAR
VERSION:2.0
PRODID:-//CSVČ sv. Jana Boska - ECPv6.2.8.1//NONSGML v1.0//EN
CALSCALE:GREGORIAN
METHOD:PUBLISH
X-ORIGINAL-URL:https://www.csvc.cz
X-WR-CALDESC:Akce na CSVČ sv. Jana Boska
REFRESH-INTERVAL;VALUE=DURATION:PT1H
X-Robots-Tag:noindex
X-PUBLISHED-TTL:PT1H
BEGIN:VTIMEZONE
TZID:Europe/Prague
BEGIN:DAYLIGHT
TZOFFSETFROM:+0100
TZOFFSETTO:+0200
TZNAME:CEST
DTSTART:20260329T010000
END:DAYLIGHT
BEGIN:STANDARD
TZOFFSETFROM:+0200
TZOFFSETTO:+0100
TZNAME:CET
DTSTART:20261025T010000
END:STANDARD
END:VTIMEZONE
BEGIN:VEVENT
DTSTART;VALUE=DATE:20260530
DTEND;VALUE=DATE:20260531
DTSTAMP:20260419T143329
CREATED:20260409T112935Z
LAST-MODIFIED:20260409T112935Z
UID:26547-1780099200-1780185599@www.csvc.cz
SUMMARY:2.Salesiánský turnaj ve stolním tenise
DESCRIPTION:Tento den se uskuteční turnaj ve stolním tenise mezi středisky z celé České republiky. Tradičně přijíždějí střediska z Ostravy\, Brna\, Prahy\, Prostějova a Pardubic. Turnaj je určen pro děti navštěvující kroužky stolního tenisu v našem středisku. Nutná je odevzdaná přihláška\, kterou dostanete u vedoucího kroužku na Městě. \nTermín: 30.5. 2026 \nPro koho: pro děti a mládež ve věku 8-21 let \nMísto konání: Don Bosko Ostrava \nCo sebou: tenisky do haly\, věci na hraní\, pálku (tu vám můžeme půjčit)
URL:https://www.csvc.cz/akce/2-salesiansky-turnaj-ve-stolnim-tenise/
LOCATION:Don Bosko Ostrava\, Vítkovická 28\, Ostrava
CATEGORIES:Klub Maják,Pobočka Město,Pobočka Šumbark
ATTACH;FMTTYPE=image/png:https://www.csvc.cz/wp-content/uploads/2022/06/STOLNI-TENIS1.png
END:VEVENT
END:VCALENDAR